BEGIN:VCALENDAR
VERSION:2.0
PRODID:DPCALENDAR
CALSCALE:GREGORIAN
BEGIN:VTIMEZONE
TZID:Europe/Zurich
BEGIN:STANDARD
DTSTART:20251026T010000
TZOFFSETFROM:+0200
TZOFFSETTO:+0100
TZNAME:CET
END:STANDARD
BEGIN:STANDARD
DTSTART:20261025T010000
TZOFFSETFROM:+0200
TZOFFSETTO:+0100
TZNAME:CET
END:STANDARD
BEGIN:DAYLIGHT
DTSTART:20260329T010000
TZOFFSETFROM:+0100
TZOFFSETTO:+0200
TZNAME:CEST
END:DAYLIGHT
END:VTIMEZONE
X-WR-TIMEZONE:Europe/Zurich
BEGIN:VEVENT
DTSTART;VALUE=DATE:20190810
DTEND;VALUE=DATE:20190812
UID:E4DC5135-7444-4C76-8FE1-3AAAA13FD6FE
SUMMARY:100-Jahre SVP Muhen
CREATED:20190309T141055Z
DTSTAMP:20190309T141055Z
URL:https://www.svp-hirschthal.ch/cms/anlaesse/100-jahre-svp-muhen
DESCRIPTION: Unterlagen folgen
X-ALT-DESC;FMTTYPE=text/html:<div>&nbsp;Unterlagen folgen</div>
X-ACCESS:1
X-HITS:84
X-COLOR:33cc5e
X-SHOW-END-TIME:1
END:VEVENT
BEGIN:VEVENT
DTSTART;TZID=Europe/Zurich:20200221T190000
DTEND;TZID=Europe/Zurich:20200221T200000
UID:7B4F6BCB-5655-4B87-A3E2-3802DAD46FD3
SUMMARY:GV (provisorisches Datum)
CREATED:20190309T143321Z
DTSTAMP:20190309T143321Z
URL:https://www.svp-hirschthal.ch/cms/anlaesse/gv-provisorisches-datum
DESCRIPTION: 
X-ALT-DESC;FMTTYPE=text/html:<div>&nbsp;</div>
LOCATION:4 Trottengasse\, Hirschthal\, Aargau 5042
GEO:47.32022045;8.05391031
X-LOCATION-DISPLAYNAME:Mehrzweckanlage Hirschmatt, Hirschthal
X-ACCESS:1
X-HITS:322
X-COLOR:33cc5e
X-SHOW-END-TIME:0
END:VEVENT
BEGIN:VEVENT
DTSTART;VALUE=DATE:20200516
DTEND;VALUE=DATE:20200517
UID:131830A0-D26F-470A-A1C5-18E61A47D8BA
SUMMARY:Grossratswahlen / Event
CREATED:20200320T154033Z
DTSTAMP:20200320T154033Z
URL:https://www.svp-hirschthal.ch/cms/anlaesse/grossratswahlen-event
LAST-MODIFIED:20200320T160325Z
SEQUENCE:1372
X-ACCESS:1
X-HITS:522
X-COLOR:ffff00
X-SHOW-END-TIME:1
END:VEVENT
BEGIN:VEVENT
DTSTART;VALUE=DATE:20200923
DTEND;VALUE=DATE:20200924
UID:7A77BD37-0511-4514-B7BD-FD09890B31FD
SUMMARY:Gemeinsamer Anlass mit SVP Muhen (Einladung folgt)
CREATED:20200320T155332Z
DTSTAMP:20200320T155332Z
URL:https://www.svp-hirschthal.ch/cms/anlaesse/gemeinsamer-anlass-mit-svp-muhen-einladung-folgt
LAST-MODIFIED:20200320T160358Z
SEQUENCE:626
X-ACCESS:1
X-HITS:88
X-COLOR:ffff00
X-SHOW-END-TIME:1
END:VEVENT
BEGIN:VEVENT
DTSTART;TZID=Europe/Zurich:20201120T190000
DTEND;TZID=Europe/Zurich:20201120T200000
UID:94238BAC-BD70-4345-8378-7EACD473BD6C
SUMMARY:Chlausabend SVP-Hirschthal
CREATED:20200320T165820Z
DTSTAMP:20200320T165820Z
URL:https://www.svp-hirschthal.ch/cms/anlaesse/chlausabend-svp-hirschthal-2
LAST-MODIFIED:20200320T160529Z
SEQUENCE:-3171
LOCATION:4 Trottengasse\, Hirschthal\, Aargau 5042
GEO:47.32022045;8.05391031
X-LOCATION-DISPLAYNAME:Mehrzweckanlage Hirschmatt, Hirschthal
X-ACCESS:1
X-HITS:158
X-COLOR:ffff00
X-SHOW-END-TIME:0
END:VEVENT
BEGIN:VEVENT
DTSTART;TZID=Europe/Zurich:20210226T190000
DTEND;TZID=Europe/Zurich:20210226T200000
UID:9F8F5AB1-B7A4-4BCA-9E68-7EA87F668F0E
SUMMARY:GV 2021
CREATED:20200320T160301Z
DTSTAMP:20200320T160301Z
URL:https://www.svp-hirschthal.ch/cms/anlaesse/gv-2021
DESCRIPTION: 
X-ALT-DESC;FMTTYPE=text/html:<div>&nbsp;</div>
LOCATION:4 Trottengasse\, Hirschthal\, Aargau 5042
GEO:47.32022045;8.05391031
X-LOCATION-DISPLAYNAME:Mehrzweckanlage Hirschmatt, Hirschthal
X-ACCESS:1
X-HITS:248
X-COLOR:ffff00
X-SHOW-END-TIME:0
END:VEVENT
BEGIN:VEVENT
DTSTART;TZID=Europe/Zurich:20220921T193000
DTEND;TZID=Europe/Zurich:20220921T203000
UID:549E3DAA-B42F-4BB6-9201-5127F30E2E07
SUMMARY:Ortspräsidenten-Sitzung
CREATED:20220907T112701Z
DTSTAMP:20220907T112701Z
URL:https://www.svp-hirschthal.ch/cms/anlaesse/ortspraesidenten-sitzung
LAST-MODIFIED:20220907T113122Z
SEQUENCE:261
X-ACCESS:1
X-HITS:111
X-COLOR:33cc5e
X-SHOW-END-TIME:0
END:VEVENT
BEGIN:VEVENT
DTSTART;TZID=Europe/Zurich:20221003T193000
DTEND;TZID=Europe/Zurich:20221003T203000
UID:DE0ADBC4-F270-40EC-B8DC-618DF2852000
SUMMARY:Sessionsrückblick
CREATED:20220907T112933Z
DTSTAMP:20220907T112933Z
URL:https://www.svp-hirschthal.ch/cms/anlaesse/sessionsrueckblick-2
DESCRIPTION:	 
X-ALT-DESC;FMTTYPE=text/html:	<div>&nbsp;</div>
LAST-MODIFIED:20220907T114024Z
SEQUENCE:651
LOCATION:39 Schachenallee\, Aarau\, Aargau 5000
GEO:47.38866240;8.04016594
X-LOCATION-DISPLAYNAME:Gasthof zum Schützen, Aarau
X-ACCESS:1
X-HITS:56
X-COLOR:33cc5e
X-SHOW-END-TIME:0
END:VEVENT
BEGIN:VEVENT
DTSTART;TZID=Europe/Zurich:20221119T193000
DTEND;TZID=Europe/Zurich:20221119T203000
UID:46CD6A2A-71B0-4F38-B604-19D076A5908D
SUMMARY:Sessionsrückblick
CREATED:20220907T113652Z
DTSTAMP:20220907T113652Z
URL:https://www.svp-hirschthal.ch/cms/anlaesse/sessionsrueckblick
DESCRIPTION: 
X-ALT-DESC;FMTTYPE=text/html:<div>&nbsp;</div>
LOCATION:39 Schachenallee\, Aarau\, Aargau 5000
GEO:47.38866240;8.04016594
X-LOCATION-DISPLAYNAME:Gasthof zum Schützen, Aarau
X-ACCESS:1
X-HITS:85
X-COLOR:33cc5e
X-SHOW-END-TIME:0
END:VEVENT
BEGIN:VEVENT
DTSTART;TZID=Europe/Zurich:20230310T190000
DTEND;TZID=Europe/Zurich:20230310T200000
UID:B7AFE3B3-6A5A-4BA1-9491-B00518C8D771
SUMMARY:GV SVP Hirschthal
CREATED:20230219T172646Z
DTSTAMP:20230219T172646Z
URL:https://www.svp-hirschthal.ch/cms/anlaesse/gv-svp-hirschthal
DESCRIPTION: 
X-ALT-DESC;FMTTYPE=text/html:<div>&nbsp;</div>
LOCATION:4 Trottengasse\, Hirschthal\, Aargau 5042
GEO:47.32022045;8.05391031
X-LOCATION-DISPLAYNAME:Mehrzweckanlage Hirschmatt, Hirschthal
X-ACCESS:1
X-HITS:42
X-COLOR:33cc5e
X-SHOW-END-TIME:0
END:VEVENT
BEGIN:VEVENT
DTSTART;TZID=Europe/Zurich:20240308T190000
DTEND;TZID=Europe/Zurich:20240308T200000
UID:4ABBB13B-F9CD-4648-8299-C3C73A263E47
SUMMARY:GV SVP Hirschthal (provisorisch)
CREATED:20230219T173715Z
DTSTAMP:20230219T173715Z
URL:https://www.svp-hirschthal.ch/cms/anlaesse/gv-svp-hirschthal-provisorisch
DESCRIPTION: 
X-ALT-DESC;FMTTYPE=text/html:<div>&nbsp;</div>
LOCATION:4 Trottengasse\, Hirschthal\, Aargau 5042
GEO:47.32022045;8.05391031
X-LOCATION-DISPLAYNAME:Mehrzweckanlage Hirschmatt, Hirschthal
X-ACCESS:1
X-HITS:124
X-COLOR:33cc5e
X-SHOW-END-TIME:0
END:VEVENT
END:VCALENDAR