BEGIN:VCALENDAR
VERSION:2.0
PRODID:DPCALENDAR
CALSCALE:GREGORIAN
BEGIN:VTIMEZONE
TZID:Europe/Zurich
BEGIN:STANDARD
DTSTART:20251026T010000
TZOFFSETFROM:+0200
TZOFFSETTO:+0100
TZNAME:CET
END:STANDARD
BEGIN:STANDARD
DTSTART:20261025T010000
TZOFFSETFROM:+0200
TZOFFSETTO:+0100
TZNAME:CET
END:STANDARD
BEGIN:DAYLIGHT
DTSTART:20260329T010000
TZOFFSETFROM:+0100
TZOFFSETTO:+0200
TZNAME:CEST
END:DAYLIGHT
END:VTIMEZONE
X-WR-TIMEZONE:Europe/Zurich
BEGIN:VEVENT
DTSTART;TZID=Europe/Zurich:20190325T193000
DTEND;TZID=Europe/Zurich:20190325T203000
UID:138CD742-F6BE-498C-9154-D042A0383AFD
SUMMARY:Sessionsrückblick
CREATED:20190309T134204Z
DTSTAMP:20190309T134204Z
URL:https://www.svp-hirschthal.ch/cms/anlaesse/sessionsrueckblick
DESCRIPTION: 
X-ALT-DESC;FMTTYPE=text/html:<div>&nbsp;</div>
LOCATION:39 Schachenallee\, Aarau\, Aargau 5000
GEO:47.38866240;8.04016594
X-LOCATION-DISPLAYNAME:Gasthof zum Schützen, Aarau
X-ACCESS:1
X-HITS:107
X-COLOR:c2bebe
X-SHOW-END-TIME:0
END:VEVENT
BEGIN:VEVENT
DTSTART;TZID=Europe/Zurich:20190330T120000
DTEND;TZID=Europe/Zurich:20190330T130000
UID:D5C61BAC-2043-462B-B060-9D466188857B
SUMMARY:Delegiertenversammlung Schweiz
CREATED:20190309T134048Z
DTSTAMP:20190309T134048Z
URL:https://www.svp-hirschthal.ch/cms/anlaesse/delegiertenversammlung-schweiz
DESCRIPTION: 
X-ALT-DESC;FMTTYPE=text/html:<div>&nbsp;</div>
X-ACCESS:1
X-HITS:134
X-COLOR:c2bebe
X-SHOW-END-TIME:0
END:VEVENT
BEGIN:VEVENT
DTSTART;TZID=Europe/Zurich:20190410T120000
DTEND;TZID=Europe/Zurich:20190410T130000
UID:4277C3D8-5679-45E2-A827-E646A4428069
SUMMARY:Kantonaler Parteitag
CREATED:20190309T140246Z
DTSTAMP:20190309T140246Z
URL:https://www.svp-hirschthal.ch/cms/anlaesse/kantonaler-parteitag
DESCRIPTION: 
X-ALT-DESC;FMTTYPE=text/html:<div>&nbsp;</div>
X-ACCESS:1
X-HITS:260
X-COLOR:c2bebe
X-SHOW-END-TIME:0
END:VEVENT
BEGIN:VEVENT
DTSTART;TZID=Europe/Zurich:20190424T193000
DTEND;TZID=Europe/Zurich:20190424T203000
UID:889897A7-7EC6-49CB-9C0B-4B0966BDA9A9
SUMMARY:Präsidentenkonferenz / Bezirk
CREATED:20190309T140325Z
DTSTAMP:20190309T140325Z
URL:https://www.svp-hirschthal.ch/cms/anlaesse/praesidentenkonferenz-bezirk
DESCRIPTION: 
X-ALT-DESC;FMTTYPE=text/html:<div>&nbsp;</div>
LOCATION:58 Hauptstrasse\, Küttigen\, Aargau 5024
GEO:47.41700190;8.04735400
X-LOCATION-DISPLAYNAME:Restaurant Traube, Küttigen
X-ACCESS:1
X-HITS:260
X-COLOR:c2bebe
X-SHOW-END-TIME:0
END:VEVENT
BEGIN:VEVENT
DTSTART;VALUE=DATE:20190519
DTEND;VALUE=DATE:20190520
UID:B1148CA8-5068-4149-97AE-9DEEA1BBEB80
SUMMARY:Abstimmungswochenende
CREATED:20190309T140419Z
DTSTAMP:20190309T140419Z
URL:https://www.svp-hirschthal.ch/cms/anlaesse/abstimmungswochenende
DESCRIPTION: 
X-ALT-DESC;FMTTYPE=text/html:<div>&nbsp;</div>
X-ACCESS:1
X-HITS:161
X-COLOR:c2bebe
X-SHOW-END-TIME:0
END:VEVENT
BEGIN:VEVENT
DTSTART;VALUE=DATE:20190614
DTEND;VALUE=DATE:20190615
UID:88106ABB-C468-48C7-BA3E-3C4AF9027B51
SUMMARY:Gemeindeversammlung
CREATED:20190309T140724Z
DTSTAMP:20190309T140724Z
URL:https://www.svp-hirschthal.ch/cms/anlaesse/gemeindeversammlung
DESCRIPTION: 
X-ALT-DESC;FMTTYPE=text/html:<div>&nbsp;</div>
LOCATION:4 Trottengasse\, Hirschthal\, Aargau 5042
GEO:47.32022045;8.05391031
X-LOCATION-DISPLAYNAME:Mehrzweckanlage Hirschmatt, Hirschthal
X-ACCESS:1
X-HITS:322
X-COLOR:c2bebe
X-SHOW-END-TIME:1
END:VEVENT
BEGIN:VEVENT
DTSTART;TZID=Europe/Zurich:20190624T193000
DTEND;TZID=Europe/Zurich:20190624T203000
UID:16D53143-CDA7-4415-A0AA-8B3D12B1F181
SUMMARY:Sessionsrückblick
CREATED:20190309T140800Z
DTSTAMP:20190309T140800Z
URL:https://www.svp-hirschthal.ch/cms/anlaesse/sessionsrueckblick-2
DESCRIPTION: 
X-ALT-DESC;FMTTYPE=text/html:<div>&nbsp;</div>
LOCATION:39 Schachenallee\, Aarau\, Aargau 5000
GEO:47.38866240;8.04016594
X-LOCATION-DISPLAYNAME:Gasthof zum Schützen, Aarau
X-ACCESS:1
X-HITS:113
X-COLOR:c2bebe
X-SHOW-END-TIME:0
END:VEVENT
BEGIN:VEVENT
DTSTART;TZID=Europe/Zurich:20190626T193000
DTEND;TZID=Europe/Zurich:20190626T203000
UID:EB3DEB1A-4CEC-440D-AAFD-E03C52F47C7A
SUMMARY:Präsidentenkonferenz / Bezirk
CREATED:20190309T140901Z
DTSTAMP:20190309T140901Z
URL:https://www.svp-hirschthal.ch/cms/anlaesse/praesidentenkonferenz-bezirk-2
DESCRIPTION: 
X-ALT-DESC;FMTTYPE=text/html:<div>&nbsp;</div>
LOCATION:58 Hauptstrasse\, Küttigen\, Aargau 5024
GEO:47.41700190;8.04735400
X-LOCATION-DISPLAYNAME:Restaurant Traube, Küttigen
X-ACCESS:1
X-HITS:121
X-COLOR:c2bebe
X-SHOW-END-TIME:0
END:VEVENT
BEGIN:VEVENT
DTSTART;VALUE=DATE:20190629
DTEND;VALUE=DATE:20190630
UID:4778853F-DA43-4901-89A0-263E6CBD1465
SUMMARY:Delegiertenversammlung Schweiz
CREATED:20190309T140935Z
DTSTAMP:20190309T140935Z
URL:https://www.svp-hirschthal.ch/cms/anlaesse/delegiertenversammlung-schweiz-2
DESCRIPTION: 
X-ALT-DESC;FMTTYPE=text/html:<div>&nbsp;</div>
X-ACCESS:1
X-HITS:41
X-COLOR:c2bebe
X-SHOW-END-TIME:0
END:VEVENT
BEGIN:VEVENT
DTSTART;VALUE=DATE:20190921
DTEND;VALUE=DATE:20190922
UID:AB31664C-24DA-45AA-AA07-76C2DDF31A34
SUMMARY:Wahlveranstaltung Nationalräte
CREATED:20190309T141304Z
DTSTAMP:20190309T141304Z
URL:https://www.svp-hirschthal.ch/cms/anlaesse/wahlveranstaltung-nationalraete
DESCRIPTION: 
X-ALT-DESC;FMTTYPE=text/html:<div>&nbsp;</div>
X-ACCESS:1
X-HITS:144
X-COLOR:c2bebe
X-SHOW-END-TIME:0
END:VEVENT
BEGIN:VEVENT
DTSTART;VALUE=DATE:20190930
DTEND;VALUE=DATE:20191001
UID:A552E65A-F427-405D-836A-5F157670174E
SUMMARY:Sessionsrückblick
CREATED:20190309T141433Z
DTSTAMP:20190309T141433Z
URL:https://www.svp-hirschthal.ch/cms/anlaesse/sessionsrueckblick-3
DESCRIPTION: 
X-ALT-DESC;FMTTYPE=text/html:<div>&nbsp;</div>
LOCATION:39 Schachenallee\, Aarau\, Aargau 5000
GEO:47.38866240;8.04016594
X-LOCATION-DISPLAYNAME:Gasthof zum Schützen, Aarau
X-ACCESS:1
X-HITS:180
X-COLOR:c2bebe
X-SHOW-END-TIME:0
END:VEVENT
BEGIN:VEVENT
DTSTART;VALUE=DATE:20191019
DTEND;VALUE=DATE:20191020
UID:3D6BA863-C0E0-46C0-8BAE-FD345DA5783E
SUMMARY:Mobilisierung Ortsparteien NR-Wahlen
CREATED:20190309T141515Z
DTSTAMP:20190309T141515Z
URL:https://www.svp-hirschthal.ch/cms/anlaesse/mobilisierung-ortsparteien-nr-wahlen
DESCRIPTION: 
X-ALT-DESC;FMTTYPE=text/html:<div>&nbsp;</div>
X-ACCESS:1
X-HITS:253
X-COLOR:c2bebe
X-SHOW-END-TIME:0
END:VEVENT
BEGIN:VEVENT
DTSTART;VALUE=DATE:20191020
DTEND;VALUE=DATE:20191021
UID:B562A6FE-B0F3-4F3E-A6C6-F1AC41E86A8E
SUMMARY:Nationalratswahlen
CREATED:20190309T141612Z
DTSTAMP:20190309T141612Z
URL:https://www.svp-hirschthal.ch/cms/anlaesse/nationalratswahlen
DESCRIPTION: 
X-ALT-DESC;FMTTYPE=text/html:<div>&nbsp;</div>
X-ACCESS:1
X-HITS:270
X-COLOR:c2bebe
X-SHOW-END-TIME:0
END:VEVENT
BEGIN:VEVENT
DTSTART;VALUE=DATE:20191023
DTEND;VALUE=DATE:20191024
UID:677C9DB6-0734-4F02-A649-7A72484C58B4
SUMMARY:Kantonaler Parteitag
CREATED:20190309T141716Z
DTSTAMP:20190309T141716Z
URL:https://www.svp-hirschthal.ch/cms/anlaesse/kantonaler-parteitag-2
DESCRIPTION: Ort noch offen
X-ALT-DESC;FMTTYPE=text/html:<div>&nbsp;Ort noch offen</div>
X-ACCESS:1
X-HITS:235
X-COLOR:c2bebe
X-SHOW-END-TIME:0
END:VEVENT
BEGIN:VEVENT
DTSTART;TZID=Europe/Zurich:20191030T193000
DTEND;TZID=Europe/Zurich:20191030T203000
UID:FAA19BFF-6E30-49C6-ACD0-FAB8FF4A9D87
SUMMARY:Präsidentenkonferenz / Bezirk
CREATED:20190309T141840Z
DTSTAMP:20190309T141840Z
URL:https://www.svp-hirschthal.ch/cms/anlaesse/praesidentenkonferenz-bezirk-oktober
DESCRIPTION: 
X-ALT-DESC;FMTTYPE=text/html:<div>&nbsp;</div>
LAST-MODIFIED:20190309T143343Z
SEQUENCE:903
LOCATION:58 Hauptstrasse\, Küttigen\, Aargau 5024
GEO:47.41700190;8.04735400
X-LOCATION-DISPLAYNAME:Restaurant Traube, Küttigen
X-ACCESS:1
X-HITS:128
X-COLOR:c2bebe
X-SHOW-END-TIME:0
END:VEVENT
BEGIN:VEVENT
DTSTART;VALUE=DATE:20191102
DTEND;VALUE=DATE:20191103
UID:E59D1B35-DD06-4DF2-8DE7-E1B20546418D
SUMMARY:Delegiertenversammlung Schweiz
CREATED:20190309T141943Z
DTSTAMP:20190309T141943Z
URL:https://www.svp-hirschthal.ch/cms/anlaesse/delegiertenversammlung-schweiz-november
DESCRIPTION: Ort noch offen
X-ALT-DESC;FMTTYPE=text/html:<div>&nbsp;Ort noch offen</div>
LAST-MODIFIED:20190309T143351Z
SEQUENCE:848
X-ACCESS:1
X-HITS:361
X-COLOR:c2bebe
X-SHOW-END-TIME:0
END:VEVENT
BEGIN:VEVENT
DTSTART;TZID=Europe/Zurich:20191122T190000
DTEND;TZID=Europe/Zurich:20191122T190000
UID:F88F7C93-20DF-4E9B-B4CF-07BC67521A24
SUMMARY:Chlausabend SVP-Hirschthal
CREATED:20190309T142129Z
DTSTAMP:20190309T142129Z
URL:https://www.svp-hirschthal.ch/cms/anlaesse/chlausabend-svp-hirschthal
DESCRIPTION: 
X-ALT-DESC;FMTTYPE=text/html:<div>&nbsp;</div>
X-ACCESS:1
X-HITS:222
X-COLOR:c2bebe
X-SHOW-END-TIME:0
END:VEVENT
BEGIN:VEVENT
DTSTART;VALUE=DATE:20191124
DTEND;VALUE=DATE:20191125
UID:2B3DE634-0A64-4F1E-A326-EA91EA1974A8
SUMMARY:Abstimmungswochenende
CREATED:20190309T142726Z
DTSTAMP:20190309T142726Z
URL:https://www.svp-hirschthal.ch/cms/anlaesse/abstimmungswochenende-2
DESCRIPTION: 
X-ALT-DESC;FMTTYPE=text/html:<div>&nbsp;</div>
LAST-MODIFIED:20190309T142834Z
SEQUENCE:68
LOCATION:Sachseln\, Obwalden 6072
GEO:46.80005790;8.23587317
X-LOCATION-DISPLAYNAME:Schweiz
X-ACCESS:1
X-HITS:192
X-COLOR:c2bebe
X-SHOW-END-TIME:0
END:VEVENT
BEGIN:VEVENT
DTSTART;VALUE=DATE:20191205
DTEND;VALUE=DATE:20191206
UID:08071A7B-5B9D-4F2E-8DBB-49381E758D1A
SUMMARY:Kantonaler Parteitag
CREATED:20190309T142921Z
DTSTAMP:20190309T142921Z
URL:https://www.svp-hirschthal.ch/cms/anlaesse/kantonaler-parteitag-dezember
DESCRIPTION: Ort noch offen
X-ALT-DESC;FMTTYPE=text/html:<div>&nbsp;Ort noch offen</div>
LAST-MODIFIED:20190309T143402Z
SEQUENCE:281
LOCATION:Sachseln\, Obwalden 6072
GEO:46.80005790;8.23587317
X-LOCATION-DISPLAYNAME:Schweiz
X-ACCESS:1
X-HITS:155
X-COLOR:c2bebe
X-SHOW-END-TIME:0
END:VEVENT
BEGIN:VEVENT
DTSTART;VALUE=DATE:20191206
DTEND;VALUE=DATE:20191207
UID:8184D931-6905-4BC0-8663-41DB45F19EF4
SUMMARY:Gemeindeversammlung
CREATED:20190309T143006Z
DTSTAMP:20190309T143006Z
URL:https://www.svp-hirschthal.ch/cms/anlaesse/gemeindeversammlung-dezember
DESCRIPTION: 
X-ALT-DESC;FMTTYPE=text/html:<div>&nbsp;</div>
LAST-MODIFIED:20190309T143409Z
SEQUENCE:243
LOCATION:4 Trottengasse\, Hirschthal\, Aargau 5042
GEO:47.32022045;8.05391031
X-LOCATION-DISPLAYNAME:Mehrzweckanlage Hirschmatt, Hirschthal
X-ACCESS:1
X-HITS:129
X-COLOR:c2bebe
X-SHOW-END-TIME:0
END:VEVENT
BEGIN:VEVENT
DTSTART;TZID=Europe/Zurich:20191223T193000
DTEND;TZID=Europe/Zurich:20191223T203000
UID:4C67E163-2AEF-45A8-87D6-097164C66D33
SUMMARY:Sessionsrückblick
CREATED:20190309T143049Z
DTSTAMP:20190309T143049Z
URL:https://www.svp-hirschthal.ch/cms/anlaesse/sessionsrueckblick-dezember
DESCRIPTION: 
X-ALT-DESC;FMTTYPE=text/html:<div>&nbsp;</div>
LAST-MODIFIED:20190309T143416Z
SEQUENCE:207
LOCATION:39 Schachenallee\, Aarau\, Aargau 5000
GEO:47.38866240;8.04016594
X-LOCATION-DISPLAYNAME:Gasthof zum Schützen, Aarau
X-ACCESS:1
X-HITS:554
X-COLOR:c2bebe
X-SHOW-END-TIME:0
END:VEVENT
BEGIN:VEVENT
DTSTART;TZID=Europe/Zurich:20200213T190000
DTEND;TZID=Europe/Zurich:20200213T200000
UID:B859CA17-6C82-49F6-B780-A16CA75B098F
SUMMARY:Präsidentenkonferenz / Bezirk
CREATED:20190309T143236Z
DTSTAMP:20190309T143236Z
URL:https://www.svp-hirschthal.ch/cms/anlaesse/praesidentenkonferenz-bezirk-3
DESCRIPTION: Ort noch offen
X-ALT-DESC;FMTTYPE=text/html:<div>&nbsp;Ort noch offen</div>
LOCATION:Sachseln\, Obwalden 6072
GEO:46.80005790;8.23587317
X-LOCATION-DISPLAYNAME:Schweiz
X-ACCESS:1
X-HITS:270
X-COLOR:c2bebe
X-SHOW-END-TIME:0
END:VEVENT
BEGIN:VEVENT
DTSTART;VALUE=DATE:20200517
DTEND;VALUE=DATE:20200518
UID:EF03A442-9BFC-4D06-ACA5-FFB3A6A783F7
SUMMARY:Abstimmungswochenende
CREATED:20200320T154225Z
DTSTAMP:20200320T154225Z
URL:https://www.svp-hirschthal.ch/cms/anlaesse/abstimmungswochenende-3
DESCRIPTION: 
X-ALT-DESC;FMTTYPE=text/html:<div>&nbsp;</div>
X-ACCESS:1
X-HITS:280
X-COLOR:c2bebe
X-SHOW-END-TIME:1
END:VEVENT
BEGIN:VEVENT
DTSTART;VALUE=DATE:20200605
DTEND;VALUE=DATE:20200606
UID:DE686C7B-AA10-44CB-AF80-48B23F94AF88
SUMMARY:Gemeindeversammlung
CREATED:20190309T140724Z
DTSTAMP:20190309T140724Z
URL:https://www.svp-hirschthal.ch/cms/anlaesse/gemeindeversammlung-2
DESCRIPTION: 
X-ALT-DESC;FMTTYPE=text/html:<div>&nbsp;</div>
LOCATION:4 Trottengasse\, Hirschthal\, Aargau 5042
GEO:47.32022045;8.05391031
X-LOCATION-DISPLAYNAME:Mehrzweckanlage Hirschmatt, Hirschthal
X-ACCESS:1
X-HITS:106
X-COLOR:c2bebe
X-SHOW-END-TIME:1
END:VEVENT
BEGIN:VEVENT
DTSTART;VALUE=DATE:20200613
DTEND;VALUE=DATE:20200614
UID:F4525963-D8D5-4A08-8530-C77778ABC4E7
SUMMARY:Grossratswahlen / Event
CREATED:20200320T154657Z
DTSTAMP:20200320T154657Z
URL:https://www.svp-hirschthal.ch/cms/anlaesse/grossratswahlen-event
DESCRIPTION: 
X-ALT-DESC;FMTTYPE=text/html:<div>&nbsp;</div>
X-ACCESS:1
X-HITS:69
X-COLOR:c2bebe
X-SHOW-END-TIME:1
END:VEVENT
BEGIN:VEVENT
DTSTART;TZID=Europe/Zurich:20200622T193000
DTEND;TZID=Europe/Zurich:20200622T203000
UID:71931B5D-73B4-4575-9448-F6584970AFB0
SUMMARY:Sessionsrückblick
CREATED:20200320T154752Z
DTSTAMP:20200320T154752Z
URL:https://www.svp-hirschthal.ch/cms/anlaesse/sessionsrueckblick-4
DESCRIPTION: 
X-ALT-DESC;FMTTYPE=text/html:<div>&nbsp;</div>
LOCATION:39 Schachenallee\, Aarau\, Aargau 5000
GEO:47.38866240;8.04016594
X-LOCATION-DISPLAYNAME:Gasthof zum Schützen, Aarau
X-ACCESS:1
X-HITS:124
X-COLOR:c2bebe
X-SHOW-END-TIME:0
END:VEVENT
BEGIN:VEVENT
DTSTART;VALUE=DATE:20200627
DTEND;VALUE=DATE:20200628
UID:8C9F802D-139A-49F5-989A-94606DA828A3
SUMMARY:Grossratswahlen / Event
CREATED:20200320T154846Z
DTSTAMP:20200320T154846Z
URL:https://www.svp-hirschthal.ch/cms/anlaesse/grossratswahlen-event-2
DESCRIPTION: 
X-ALT-DESC;FMTTYPE=text/html:<div>&nbsp;</div>
X-ACCESS:1
X-HITS:151
X-COLOR:c2bebe
X-SHOW-END-TIME:1
END:VEVENT
BEGIN:VEVENT
DTSTART;VALUE=DATE:20200821
DTEND;VALUE=DATE:20200822
UID:4CCB862B-AF8E-416B-904F-AD6BA7A3BD32
SUMMARY:100 Jahre SVP AG
CREATED:20200320T154951Z
DTSTAMP:20200320T154951Z
URL:https://www.svp-hirschthal.ch/cms/anlaesse/100-jahre-svp-ag
DESCRIPTION: 
X-ALT-DESC;FMTTYPE=text/html:<div>&nbsp;</div>
X-ACCESS:1
X-HITS:529
X-COLOR:c2bebe
X-SHOW-END-TIME:1
END:VEVENT
BEGIN:VEVENT
DTSTART;VALUE=DATE:20200822
DTEND;VALUE=DATE:20200823
UID:6B909EBB-4844-46B8-935D-1561E02E199A
SUMMARY:Delegiertenversammlung Schweiz
CREATED:20200320T155031Z
DTSTAMP:20200320T155031Z
URL:https://www.svp-hirschthal.ch/cms/anlaesse/delegiertenversammlung-schweiz-3
DESCRIPTION: 
X-ALT-DESC;FMTTYPE=text/html:<div>&nbsp;</div>
X-ACCESS:1
X-HITS:265
X-COLOR:c2bebe
X-SHOW-END-TIME:1
END:VEVENT
BEGIN:VEVENT
DTSTART;VALUE=DATE:20200826
DTEND;VALUE=DATE:20200827
UID:676959B7-3D22-477E-92C0-5264F76164C3
SUMMARY:Kant. Parteitag
CREATED:20200320T155111Z
DTSTAMP:20200320T155111Z
URL:https://www.svp-hirschthal.ch/cms/anlaesse/kant-parteitag
LAST-MODIFIED:20200320T155124Z
SEQUENCE:13
X-ACCESS:1
X-HITS:282
X-COLOR:c2bebe
X-SHOW-END-TIME:1
END:VEVENT
BEGIN:VEVENT
DTSTART;VALUE=DATE:20200828
DTEND;VALUE=DATE:20200829
UID:D698F214-9602-428E-8586-1A8D4AED8491
SUMMARY:Grossratswahlen / Event
CREATED:20200320T155156Z
DTSTAMP:20200320T155156Z
URL:https://www.svp-hirschthal.ch/cms/anlaesse/grossratswahlen-event-3
DESCRIPTION: 
X-ALT-DESC;FMTTYPE=text/html:<div>&nbsp;</div>
X-ACCESS:1
X-HITS:31
X-COLOR:c2bebe
X-SHOW-END-TIME:1
END:VEVENT
BEGIN:VEVENT
DTSTART;VALUE=DATE:20200926
DTEND;VALUE=DATE:20200927
UID:F3C2A048-E288-4DF6-A314-30CD3C1F12E5
SUMMARY:Wahlveranstaltung in Aarau
CREATED:20200320T155407Z
DTSTAMP:20200320T155407Z
URL:https://www.svp-hirschthal.ch/cms/anlaesse/wahlveranstaltung-in-aarau
DESCRIPTION: 
X-ALT-DESC;FMTTYPE=text/html:<div>&nbsp;</div>
X-ACCESS:1
X-HITS:105
X-COLOR:c2bebe
X-SHOW-END-TIME:1
END:VEVENT
BEGIN:VEVENT
DTSTART;VALUE=DATE:20200927
DTEND;VALUE=DATE:20200928
UID:4C4780C2-0396-4764-89EA-E2FF68069073
SUMMARY:Wahltermin (Bezirks- und Kreiswahlen)
CREATED:20200320T155442Z
DTSTAMP:20200320T155442Z
URL:https://www.svp-hirschthal.ch/cms/anlaesse/wahltermin-bezirks-und-kreiswahlen
DESCRIPTION: 
X-ALT-DESC;FMTTYPE=text/html:<div>&nbsp;</div>
X-ACCESS:1
X-HITS:110
X-COLOR:c2bebe
X-SHOW-END-TIME:1
END:VEVENT
BEGIN:VEVENT
DTSTART;VALUE=DATE:20200928
DTEND;VALUE=DATE:20200929
UID:06BC323D-92CC-4113-B512-0140987EC788
SUMMARY:Sessionsrückblick
CREATED:20200320T155514Z
DTSTAMP:20200320T155514Z
URL:https://www.svp-hirschthal.ch/cms/anlaesse/sessionsrueckblick-5
DESCRIPTION: 
X-ALT-DESC;FMTTYPE=text/html:<div>&nbsp;</div>
LOCATION:39 Schachenallee\, Aarau\, Aargau 5000
GEO:47.38866240;8.04016594
X-LOCATION-DISPLAYNAME:Gasthof zum Schützen, Aarau
X-ACCESS:1
X-HITS:52
X-COLOR:c2bebe
X-SHOW-END-TIME:1
END:VEVENT
BEGIN:VEVENT
DTSTART;VALUE=DATE:20201018
DTEND;VALUE=DATE:20201019
UID:71A58F2B-CAF2-4A2D-9C5C-263C0FF08733
SUMMARY:Grossrat- und Regierungsratswahlen
CREATED:20200320T155544Z
DTSTAMP:20200320T155544Z
URL:https://www.svp-hirschthal.ch/cms/anlaesse/grossrat-und-regierungsratswahlen
DESCRIPTION: 
X-ALT-DESC;FMTTYPE=text/html:<div>&nbsp;</div>
X-ACCESS:1
X-HITS:174
X-COLOR:c2bebe
X-SHOW-END-TIME:1
END:VEVENT
BEGIN:VEVENT
DTSTART;VALUE=DATE:20201021
DTEND;VALUE=DATE:20201022
UID:86B03220-09C6-4B39-BF59-64C88F7606A6
SUMMARY:Kantonaler Parteitag
CREATED:20200320T155617Z
DTSTAMP:20200320T155617Z
URL:https://www.svp-hirschthal.ch/cms/anlaesse/kantonaler-parteitag-3
DESCRIPTION: 
X-ALT-DESC;FMTTYPE=text/html:<div>&nbsp;</div>
X-ACCESS:1
X-HITS:132
X-COLOR:c2bebe
X-SHOW-END-TIME:1
END:VEVENT
BEGIN:VEVENT
DTSTART;TZID=Europe/Zurich:20201028T193000
DTEND;TZID=Europe/Zurich:20201028T203000
UID:662CBB2E-2721-4B3A-8C54-D2F7F7E1798F
SUMMARY:Präsidentenkonferenz / Bezirk
CREATED:20200320T155700Z
DTSTAMP:20200320T155700Z
URL:https://www.svp-hirschthal.ch/cms/anlaesse/praesidentenkonferenz-bezirk-4
DESCRIPTION: 
X-ALT-DESC;FMTTYPE=text/html:<div>&nbsp;</div>
LOCATION:58 Hauptstrasse\, Küttigen\, Aargau 5024
GEO:47.41700190;8.04735400
X-LOCATION-DISPLAYNAME:Restaurant Traube, Küttigen
X-ACCESS:1
X-HITS:179
X-COLOR:c2bebe
X-SHOW-END-TIME:0
END:VEVENT
BEGIN:VEVENT
DTSTART;VALUE=DATE:20201031
DTEND;VALUE=DATE:20201101
UID:17B600A1-7A74-460B-B03B-5CE78EA3A98F
SUMMARY:Delegiertenversammlung Schweiz
CREATED:20200320T155731Z
DTSTAMP:20200320T155731Z
URL:https://www.svp-hirschthal.ch/cms/anlaesse/delegiertenversammlung-schweiz-4
DESCRIPTION: 
X-ALT-DESC;FMTTYPE=text/html:<div>&nbsp;</div>
X-ACCESS:1
X-HITS:129
X-COLOR:c2bebe
X-SHOW-END-TIME:1
END:VEVENT
BEGIN:VEVENT
DTSTART;VALUE=DATE:20201126
DTEND;VALUE=DATE:20201127
UID:AB924F05-183D-418A-A90C-BB8789074A2A
SUMMARY:Kantonaler Parteitag
CREATED:20200320T155905Z
DTSTAMP:20200320T155905Z
URL:https://www.svp-hirschthal.ch/cms/anlaesse/kantonaler-parteitag-4
DESCRIPTION: 
X-ALT-DESC;FMTTYPE=text/html:<div>&nbsp;</div>
X-ACCESS:1
X-HITS:105
X-COLOR:c2bebe
X-SHOW-END-TIME:1
END:VEVENT
BEGIN:VEVENT
DTSTART;VALUE=DATE:20201204
DTEND;VALUE=DATE:20201205
UID:73512067-4E73-4678-B37A-48315702D6B3
SUMMARY:Gemeindeversammlung
CREATED:20200320T155946Z
DTSTAMP:20200320T155946Z
URL:https://www.svp-hirschthal.ch/cms/anlaesse/gemeindeversammlung-3
DESCRIPTION: 
X-ALT-DESC;FMTTYPE=text/html:<div>&nbsp;</div>
LOCATION:4 Trottengasse\, Hirschthal\, Aargau 5042
GEO:47.32022045;8.05391031
X-LOCATION-DISPLAYNAME:Mehrzweckanlage Hirschmatt, Hirschthal
X-ACCESS:1
X-HITS:163
X-COLOR:c2bebe
X-SHOW-END-TIME:1
END:VEVENT
BEGIN:VEVENT
DTSTART;TZID=Europe/Zurich:20201221T193000
DTEND;TZID=Europe/Zurich:20201221T203000
UID:81972FDE-FBD9-4FA7-B295-1D13A16521E6
SUMMARY:Sessionsrückblick
CREATED:20200320T160026Z
DTSTAMP:20200320T160026Z
URL:https://www.svp-hirschthal.ch/cms/anlaesse/sessionsrueckblick-6
DESCRIPTION: 
X-ALT-DESC;FMTTYPE=text/html:<div>&nbsp;</div>
LOCATION:39 Schachenallee\, Aarau\, Aargau 5000
GEO:47.38866240;8.04016594
X-LOCATION-DISPLAYNAME:Gasthof zum Schützen, Aarau
X-ACCESS:1
X-HITS:146
X-COLOR:c2bebe
X-SHOW-END-TIME:0
END:VEVENT
BEGIN:VEVENT
DTSTART;TZID=Europe/Zurich:20210218T190000
DTEND;TZID=Europe/Zurich:20210218T200000
UID:87200D61-EEBB-470E-91CF-8CF90100E4F6
SUMMARY:Präsidentenkonferenz / Bezirk
CREATED:20200320T160200Z
DTSTAMP:20200320T160200Z
URL:https://www.svp-hirschthal.ch/cms/anlaesse/praesidentenkonferenz-bezirk-5
DESCRIPTION: 
X-ALT-DESC;FMTTYPE=text/html:<div>&nbsp;</div>
LOCATION:58 Hauptstrasse\, Küttigen\, Aargau 5024
GEO:47.41700190;8.04735400
X-LOCATION-DISPLAYNAME:Restaurant Traube, Küttigen
X-ACCESS:1
X-HITS:240
X-COLOR:c2bebe
X-SHOW-END-TIME:0
END:VEVENT
BEGIN:VEVENT
DTSTART;VALUE=DATE:20220925
DTEND;VALUE=DATE:20220926
UID:DF64F1EA-90B8-45D4-8D3A-0A174415E49A
SUMMARY:Abstimmungswochenende
CREATED:20220907T112753Z
DTSTAMP:20220907T112753Z
URL:https://www.svp-hirschthal.ch/cms/anlaesse/abstimmungswochenende-4
DESCRIPTION: 
X-ALT-DESC;FMTTYPE=text/html:<div>&nbsp;</div>
LOCATION:Sachseln\, Obwalden 6072
GEO:46.80005790;8.23587317
X-LOCATION-DISPLAYNAME:Schweiz
X-ACCESS:1
X-HITS:55
X-COLOR:c2bebe
X-SHOW-END-TIME:0
END:VEVENT
BEGIN:VEVENT
DTSTART;VALUE=DATE:20221022
DTEND;VALUE=DATE:20221023
UID:3AE379BA-AF53-4C1B-B411-DEA8A73BDEE1
SUMMARY:Delegiertenversammlung Schweiz
CREATED:20220907T113027Z
DTSTAMP:20220907T113027Z
URL:https://www.svp-hirschthal.ch/cms/anlaesse/delegiertenversammlung-schweiz-5
LAST-MODIFIED:20220907T113144Z
SEQUENCE:77
X-ACCESS:1
X-HITS:89
X-COLOR:c2bebe
X-SHOW-END-TIME:0
END:VEVENT
BEGIN:VEVENT
DTSTART;VALUE=DATE:20221127
DTEND;VALUE=DATE:20221128
UID:178B3949-6366-40EC-B93A-5F3FB68660E8
SUMMARY:Abstimmungswochenende
CREATED:20220907T113541Z
DTSTAMP:20220907T113541Z
URL:https://www.svp-hirschthal.ch/cms/anlaesse/abstimmungswochenende-3
DESCRIPTION:	 
X-ALT-DESC;FMTTYPE=text/html:	<div>&nbsp;</div>
LAST-MODIFIED:20220907T114007Z
SEQUENCE:266
LOCATION:Sachseln\, Obwalden 6072
GEO:46.80005790;8.23587317
X-LOCATION-DISPLAYNAME:Schweiz
X-ACCESS:1
X-HITS:90
X-COLOR:c2bebe
X-SHOW-END-TIME:0
END:VEVENT
BEGIN:VEVENT
DTSTART;VALUE=DATE:20230312
DTEND;VALUE=DATE:20230313
UID:BAE48709-B010-47D3-BE09-FD3B004F5C75
SUMMARY:Abstimmungswochenende
CREATED:20190309T130419Z
DTSTAMP:20190309T130419Z
URL:https://www.svp-hirschthal.ch/cms/anlaesse/abstimmungswochenende-2
DESCRIPTION: 
X-ALT-DESC;FMTTYPE=text/html:<div>&nbsp;</div>
X-ACCESS:1
X-HITS:32
X-COLOR:c2bebe
X-SHOW-END-TIME:0
END:VEVENT
BEGIN:VEVENT
DTSTART;VALUE=DATE:20230318
DTEND;VALUE=DATE:20230319
UID:C48D398E-3FC9-4440-B98C-BEAE95554AAC
SUMMARY:SVP CH Delegiertenversammlung
CREATED:20230219T172856Z
DTSTAMP:20230219T172856Z
URL:https://www.svp-hirschthal.ch/cms/anlaesse/svp-ch-delegiertenversammlung
DESCRIPTION: 
X-ALT-DESC;FMTTYPE=text/html:<div>&nbsp;</div>
X-ACCESS:1
X-HITS:48
X-COLOR:c2bebe
X-SHOW-END-TIME:1
END:VEVENT
BEGIN:VEVENT
DTSTART;TZID=Europe/Zurich:20230504T193000
DTEND;TZID=Europe/Zurich:20230504T203000
UID:69B8B9A0-3562-4ACB-846D-E6B2DB41C69C
SUMMARY:Präsidentenkonferenz
CREATED:20230219T172949Z
DTSTAMP:20230219T172949Z
URL:https://www.svp-hirschthal.ch/cms/anlaesse/praesidentenkonferenz
DESCRIPTION: 
X-ALT-DESC;FMTTYPE=text/html:<div>&nbsp;</div>
X-ACCESS:1
X-HITS:96
X-COLOR:c2bebe
X-SHOW-END-TIME:0
END:VEVENT
BEGIN:VEVENT
DTSTART;VALUE=DATE:20230510
DTEND;VALUE=DATE:20230511
UID:0B9D9E1B-C328-4688-A5A0-03217ED8A991
SUMMARY:SVP AG Parteitag
CREATED:20230219T173151Z
DTSTAMP:20230219T173151Z
URL:https://www.svp-hirschthal.ch/cms/anlaesse/svp-ag-parteitag
DESCRIPTION: 
X-ALT-DESC;FMTTYPE=text/html:<div>&nbsp;</div>
X-ACCESS:1
X-HITS:100
X-COLOR:c2bebe
X-SHOW-END-TIME:0
END:VEVENT
BEGIN:VEVENT
DTSTART;VALUE=DATE:20230618
DTEND;VALUE=DATE:20230619
UID:7DF46237-BB69-4010-901C-D81A0A9B2819
SUMMARY:Abstimmungswochenende
CREATED:20190309T132726Z
DTSTAMP:20190309T132726Z
URL:https://www.svp-hirschthal.ch/cms/anlaesse/abstimmungswochenende-3
DESCRIPTION: 
X-ALT-DESC;FMTTYPE=text/html:<div>&nbsp;</div>
LAST-MODIFIED:20190309T132834Z
SEQUENCE:68
LOCATION:Sachseln\, Obwalden 6072
GEO:46.80005790;8.23587317
X-LOCATION-DISPLAYNAME:Schweiz
X-ACCESS:1
X-HITS:43
X-COLOR:c2bebe
X-SHOW-END-TIME:0
END:VEVENT
BEGIN:VEVENT
DTSTART;VALUE=DATE:20230701
DTEND;VALUE=DATE:20230702
UID:4BE0C0CC-F052-4ABA-ADDF-D279C14ECB8D
SUMMARY:SVP CH DV Sonderparteitag
CREATED:20230219T173248Z
DTSTAMP:20230219T173248Z
URL:https://www.svp-hirschthal.ch/cms/anlaesse/svp-ch-dv-sonderparteitag
DESCRIPTION: 
X-ALT-DESC;FMTTYPE=text/html:<div>&nbsp;</div>
X-ACCESS:1
X-HITS:123
X-COLOR:c2bebe
X-SHOW-END-TIME:1
END:VEVENT
BEGIN:VEVENT
DTSTART;VALUE=DATE:20230915
DTEND;VALUE=DATE:20230916
UID:C96E1821-F945-4DCD-8B35-6364C9EE5FFE
SUMMARY:Herbsttagung
CREATED:20230219T173352Z
DTSTAMP:20230219T173352Z
URL:https://www.svp-hirschthal.ch/cms/anlaesse/herbsttagung
DESCRIPTION: 
X-ALT-DESC;FMTTYPE=text/html:<div>&nbsp;</div>
X-ACCESS:1
X-HITS:104
X-COLOR:c2bebe
X-SHOW-END-TIME:1
END:VEVENT
BEGIN:VEVENT
DTSTART;TZID=Europe/Zurich:20231018T193000
DTEND;TZID=Europe/Zurich:20231018T203000
UID:82CBA2F7-5513-4608-9188-75F506EDE053
SUMMARY:Präsidentenkonferenz
CREATED:20230219T173423Z
DTSTAMP:20230219T173423Z
URL:https://www.svp-hirschthal.ch/cms/anlaesse/praesidentenkonferenz-2
DESCRIPTION: 
X-ALT-DESC;FMTTYPE=text/html:<div>&nbsp;</div>
X-ACCESS:1
X-HITS:473
X-COLOR:c2bebe
X-SHOW-END-TIME:0
END:VEVENT
BEGIN:VEVENT
DTSTART;VALUE=DATE:20231022
DTEND;VALUE=DATE:20231023
UID:E1220F83-A476-462D-8502-A12A495D3FCE
SUMMARY:Wahlsonntag
CREATED:20230219T173439Z
DTSTAMP:20230219T173439Z
URL:https://www.svp-hirschthal.ch/cms/anlaesse/wahlsonntag
DESCRIPTION: 
X-ALT-DESC;FMTTYPE=text/html:<div>&nbsp;</div>
X-ACCESS:1
X-HITS:412
X-COLOR:c2bebe
X-SHOW-END-TIME:1
END:VEVENT
BEGIN:VEVENT
DTSTART;VALUE=DATE:20231025
DTEND;VALUE=DATE:20231026
UID:88782820-CC37-481C-9724-EFF8D361EA1D
SUMMARY:SVP AG Parteitag
CREATED:20230219T173459Z
DTSTAMP:20230219T173459Z
URL:https://www.svp-hirschthal.ch/cms/anlaesse/svp-ag-parteitag-2
DESCRIPTION: 
X-ALT-DESC;FMTTYPE=text/html:<div>&nbsp;</div>
X-ACCESS:1
X-HITS:43
X-COLOR:c2bebe
X-SHOW-END-TIME:0
END:VEVENT
BEGIN:VEVENT
DTSTART;VALUE=DATE:20231111
DTEND;VALUE=DATE:20231112
UID:80D7843E-56D8-4CAF-B773-36AF7EC590C9
SUMMARY:SVP CH Delegiertenversammlung
CREATED:20230219T173514Z
DTSTAMP:20230219T173514Z
URL:https://www.svp-hirschthal.ch/cms/anlaesse/svp-ch-delegiertenversammlung-2
DESCRIPTION: 
X-ALT-DESC;FMTTYPE=text/html:<div>&nbsp;</div>
X-ACCESS:1
X-HITS:65
X-COLOR:c2bebe
X-SHOW-END-TIME:0
END:VEVENT
BEGIN:VEVENT
DTSTART;TZID=Europe/Zurich:20231117T190000
DTEND;TZID=Europe/Zurich:20231117T200000
UID:1D1DB085-19F3-498B-9275-A356BE06024F
SUMMARY:Chlausabend
CREATED:20230219T173545Z
DTSTAMP:20230219T173545Z
URL:https://www.svp-hirschthal.ch/cms/anlaesse/chlausabend
DESCRIPTION:	 
X-ALT-DESC;FMTTYPE=text/html:	<div>&nbsp;</div>
LAST-MODIFIED:20230219T173732Z
SEQUENCE:107
LOCATION:4 Trottengasse\, Hirschthal\, Aargau 5042
GEO:47.32022045;8.05391031
X-LOCATION-DISPLAYNAME:Mehrzweckanlage Hirschmatt, Hirschthal
X-ACCESS:1
X-HITS:56
X-COLOR:c2bebe
X-SHOW-END-TIME:0
END:VEVENT
BEGIN:VEVENT
DTSTART;TZID=Europe/Zurich:20240122T193000
DTEND;TZID=Europe/Zurich:20240122T203000
UID:69620C3E-E239-445F-98AE-34B81AEC4EAB
SUMMARY:Vorstandssitzung
CREATED:20230219T173611Z
DTSTAMP:20230219T173611Z
URL:https://www.svp-hirschthal.ch/cms/anlaesse/vorstandssitzung
DESCRIPTION: 
X-ALT-DESC;FMTTYPE=text/html:<div>&nbsp;</div>
X-ACCESS:1
X-HITS:0
X-COLOR:c2bebe
X-SHOW-END-TIME:0
END:VEVENT
BEGIN:VEVENT
DTSTART;TZID=Europe/Zurich:20240125T193000
DTEND;TZID=Europe/Zurich:20240125T203000
UID:6001EB7B-120A-40AD-A6FB-8C1E1FBE5786
SUMMARY:Präsidentenkonferenz
CREATED:20230219T173637Z
DTSTAMP:20230219T173637Z
URL:https://www.svp-hirschthal.ch/cms/anlaesse/praesidentenkonferenz-3
DESCRIPTION: 
X-ALT-DESC;FMTTYPE=text/html:<div>&nbsp;</div>
X-ACCESS:1
X-HITS:119
X-COLOR:c2bebe
X-SHOW-END-TIME:0
END:VEVENT
END:VCALENDAR